BEGIN:VCALENDAR
VERSION:2.0
PRODID:-//YAMA THREE - ECPv6.2.4//NONSGML v1.0//EN
CALSCALE:GREGORIAN
METHOD:PUBLISH
X-WR-CALNAME:YAMA THREE
X-ORIGINAL-URL:https://yamathree.blue-blazer.biz
X-WR-CALDESC:YAMA THREE のイベント
REFRESH-INTERVAL;VALUE=DURATION:PT1H
X-Robots-Tag:noindex
X-PUBLISHED-TTL:PT1H
BEGIN:VTIMEZONE
TZID:Asia/Tokyo
BEGIN:STANDARD
TZOFFSETFROM:+0900
TZOFFSETTO:+0900
TZNAME:JST
DTSTART:20230101T000000
END:STANDARD
END:VTIMEZONE
BEGIN:VEVENT
DTSTART;TZID=Asia/Tokyo:20231116T160000
DTEND;TZID=Asia/Tokyo:20231116T170000
DTSTAMP:20260423T074520
CREATED:20231029T144357Z
LAST-MODIFIED:20231029T151145Z
UID:927-1700150400-1700154000@yamathree.blue-blazer.biz
SUMMARY:オンライン整体相談　11月16日　（第3週）
DESCRIPTION:オンラインで身体に関わる相談を受け付けています。 \n  \nご希望の方はこちらのZoomリンクよりご参加ください。 \n  \nhttps://us05web.zoom.us/j/88312004350?pwd=axuSpu9Zqa3GbKie4Ku1MYXUWzGDcc.1 \nミーティングID:827 2152 2497 \nパスコード：922712
URL:https://yamathree.blue-blazer.biz/event/11m3w/
CATEGORIES:整体指導
END:VEVENT
END:VCALENDAR